BEGIN:VCALENDAR
VERSION:2.0
PRODID:-//Austin Fly Fishers Association - ECPv6.15.13.1//NONSGML v1.0//EN
CALSCALE:GREGORIAN
METHOD:PUBLISH
X-ORIGINAL-URL:https://austinflyfishers.com
X-WR-CALDESC:Events for Austin Fly Fishers Association
REFRESH-INTERVAL;VALUE=DURATION:PT1H
X-Robots-Tag:noindex
X-PUBLISHED-TTL:PT1H
BEGIN:VTIMEZONE
TZID:America/Chicago
BEGIN:DAYLIGHT
TZOFFSETFROM:-0600
TZOFFSETTO:-0500
TZNAME:CDT
DTSTART:20230312T080000
END:DAYLIGHT
BEGIN:STANDARD
TZOFFSETFROM:-0500
TZOFFSETTO:-0600
TZNAME:CST
DTSTART:20231105T070000
END:STANDARD
BEGIN:DAYLIGHT
TZOFFSETFROM:-0600
TZOFFSETTO:-0500
TZNAME:CDT
DTSTART:20240310T080000
END:DAYLIGHT
BEGIN:STANDARD
TZOFFSETFROM:-0500
TZOFFSETTO:-0600
TZNAME:CST
DTSTART:20241103T070000
END:STANDARD
BEGIN:DAYLIGHT
TZOFFSETFROM:-0600
TZOFFSETTO:-0500
TZNAME:CDT
DTSTART:20250309T080000
END:DAYLIGHT
BEGIN:STANDARD
TZOFFSETFROM:-0500
TZOFFSETTO:-0600
TZNAME:CST
DTSTART:20251102T070000
END:STANDARD
END:VTIMEZONE
BEGIN:VEVENT
DTSTART;TZID=America/Chicago:20240214T000000
DTEND;TZID=America/Chicago:20240214T000000
DTSTAMP:20260422T051730
CREATED:20231017T053401Z
LAST-MODIFIED:20231017T053401Z
UID:10000006-1707868800-1707868800@austinflyfishers.com
SUMMARY:Valentine's Day
DESCRIPTION:
URL:https://austinflyfishers.com/event/valentines-day/
CATEGORIES:Holidays
END:VEVENT
BEGIN:VEVENT
DTSTART;TZID=America/Chicago:20240215T190000
DTEND;TZID=America/Chicago:20240215T210000
DTSTAMP:20260422T051730
CREATED:20240131T230824Z
LAST-MODIFIED:20240131T230908Z
UID:10000092-1708023600-1708030800@austinflyfishers.com
SUMMARY:Monthly Meeting
DESCRIPTION:Grahame Jones\, will be our speaker for the February 15th meeting. Grahame will be speaking about “Spring Bass Fishing Techniques and access points on the Austin area lakes”. (Travis\, Buchanan\, Decker\, LBJ and Lake Austin) \nGrahame is a guide for all All Waters Guides. Grahame doesn’t focus or depend on fish finding electronics. Instead he focuses on wind\, time of day\, water and air temperature\, water depth\, observations of birds and bait\, habitat\, structure and over 50 years of fishing experience to locate fish.  \nGrahame is a strong proponent of wildlife and fisheries conservation\, habitat improvement and access to public land and waters. Grahame proudly served as a Texas Game Warden for 27 years and he retired as TPWD Director of Law Enforcement in 2020.  \nThe Austin Fly Fishers meet the third Thursday of each month at the Northwest Rec Center (2913 Northland Dr). \nDoors at 6pm meeting begins at 7pm. \nVisitors and guests welcome.
URL:https://austinflyfishers.com/event/monthly-meeting-2-3/
LOCATION:Northwest Recreation Center\, 2913 Northland Dr.\, Austin\, TX\, 78757\, United States
CATEGORIES:Meetings
GEO:30.333817;-97.7517957
X-APPLE-STRUCTURED-LOCATION;VALUE=URI;X-ADDRESS=Northwest Recreation Center 2913 Northland Dr. Austin TX 78757 United States;X-APPLE-RADIUS=500;X-TITLE=2913 Northland Dr.:geo:-97.7517957,30.333817
END:VEVENT
BEGIN:VEVENT
DTSTART;TZID=America/Chicago:20240219T000000
DTEND;TZID=America/Chicago:20240219T000000
DTSTAMP:20260422T051730
CREATED:20231017T053401Z
LAST-MODIFIED:20231017T053401Z
UID:10000007-1708300800-1708300800@austinflyfishers.com
SUMMARY:Washington's Birthday
DESCRIPTION:
URL:https://austinflyfishers.com/event/washingtons-birthday/
CATEGORIES:Holidays
END:VEVENT
END:VCALENDAR